BEGIN:VCALENDAR
VERSION:2.0
PRODID:Events Booking
BEGIN:VEVENT
UID:69e9fab900213
SUMMARY:The Teacher Toolkit Guide to the Science of Learning with Ross Morr
 ison McGill better known globally as @TeacherToolkit
DESCRIPTION:With over 30 years of experience in the classroom and school le
 adership\, Ross is one of the most influential and followed educators in t
 he UK and the author of 12 best-selling books.
 Join us for this exclusiv
 e pre-teaser event ahead of the book publication on 10/09/2026 
 Why Atte
 nd?
 By understanding how the brain learns\, educators can move past \"wh
 at works\" to understand why it works. This session empowers staff to crit
 ically evaluate their pedagogical choices\, build professional confidence\
 , and adapt evidence-based ideas to their specific school context.
 \"Whe
 n teachers develop neuroliteracy\, they become more effective in supportin
 g every learner in the room.\"
 Bridge the gap between science and practi
 ce in this research-informed session. Moving from fMRI findings to everyda
 y pedagogy\, this training translates complex cognitive neuroscience into 
 actionable classroom strategies.
 &nbsp\;
 Focus:
 
 The Science of Le
 arning: Unpack the mechanics of attention\, working memory\, motivation\, 
 and feedback.
 Developing \"Neuroliteracy\": Gain a glimpse inside the br
 ain to understand student overload\, distraction\, and engagement.
 Inclu
 sive Practice: Make the science of learning accessible to support all lear
 ners\, with a specific lens on SEND.
 A Blueprint for Change: Move beyond
  theory with a practical\, monthly implementation guide designed to build 
 a year-long rolling plan of evidence-informed practice.
 
 &nbsp\;
 
DTSTART:20260610T143000Z
DTEND:20260610T160000Z
DTSTAMP:20260422T132949Z
ORGANIZER;CN=SWAN Training School Alliance:MAILTO:trainingschool@sponne.org
 .uk
END:VEVENT
END:VCALENDAR